BEGIN:VCALENDAR
VERSION:2.0
PRODID:-//69.90.163.0//NONSGML kigkonsult.se iCalcreator 2.26.9//
CALSCALE:GREGORIAN
METHOD:PUBLISH
X-WR-CALNAME:DLove
X-WR-CALDESC:Newcastle&#039\;s premier wedding\, function and corporate ban
 d.
X-FROM-URL:http://dlove.com.au
X-WR-TIMEZONE:Australia/Sydney
BEGIN:VTIMEZONE
TZID:Australia/Sydney
X-LIC-LOCATION:Australia/Sydney
BEGIN:STANDARD
DTSTART:20200405T030000
TZOFFSETFROM:+1100
TZOFFSETTO:+1000
RDATE:20210404T030000
TZNAME:AEST
END:STANDARD
BEGIN:DAYLIGHT
DTSTART:20191006T020000
TZOFFSETFROM:+1000
TZOFFSETTO:+1100
RDATE:20201004T020000
TZNAME:AEDT
END:DAYLIGHT
END:VTIMEZONE
BEGIN:VEVENT
UID:FE950B36-0642-4C55-92AD-BC9CA4E37250
DTSTAMP:20200229T034851Z
CATEGORIES:
CONTACT:
DESCRIPTION:
DTSTART;TZID=Australia/Sydney:20170826T160000
DTEND;TZID=Australia/Sydney:20170826T180000
SEQUENCE:0
SUMMARY:The Man From Snowy River – Perisher
URL:http://dlove.com.au/event/the-man-from-snowy-river-perisher-4/
END:VEVENT
END:VCALENDAR
