BEGIN:VCALENDAR
VERSION:2.0
PRODID:-//69.90.163.0//NONSGML kigkonsult.se iCalcreator 2.26.9//
CALSCALE:GREGORIAN
METHOD:PUBLISH
X-WR-CALNAME:DLove
X-WR-CALDESC:Newcastle&#039\;s premier wedding\, function and corporate ban
 d.
X-FROM-URL:http://dlove.com.au
X-WR-TIMEZONE:Australia/Sydney
BEGIN:VTIMEZONE
TZID:Australia/Sydney
X-LIC-LOCATION:Australia/Sydney
BEGIN:STANDARD
DTSTART:20200405T030000
TZOFFSETFROM:+1100
TZOFFSETTO:+1000
RDATE:20210404T030000
TZNAME:AEST
END:STANDARD
BEGIN:DAYLIGHT
DTSTART:20191006T020000
TZOFFSETFROM:+1000
TZOFFSETTO:+1100
RDATE:20201004T020000
TZNAME:AEDT
END:DAYLIGHT
END:VTIMEZONE
BEGIN:VEVENT
UID:F93C6D46-92E9-4E95-8B5A-79E1D22C5632
DTSTAMP:20200229T035102Z
CATEGORIES:
CONTACT:
DESCRIPTION:9pm – 12am
DTSTART;TZID=Australia/Sydney:20171021T210000
DTEND;TZID=Australia/Sydney:20171022T000000
SEQUENCE:0
SUMMARY:DLove @ Warners Bay Hotel
URL:http://dlove.com.au/event/dlove-warners-bay-hotel/
X-ALT-DESC;FMTTYPE=text/html:<!DOCTYPE HTML PUBLIC '-//W3C//DTD HTML 3.2//E
 N'>\\n<HTML>\\n<HEAD>\\n<TITLE></TITLE>\\n</HEAD>\\n<BODY><p>9pm – 12am</p
 >\n</BODY></HTML>
END:VEVENT
END:VCALENDAR
